BEGIN:VCALENDAR
VERSION:2.0
PRODID:-//Sophrologie formation IPEES - ECPv6.15.20//NONSGML v1.0//EN
CALSCALE:GREGORIAN
METHOD:PUBLISH
X-WR-CALNAME:Sophrologie formation IPEES
X-ORIGINAL-URL:https://sophrologie-formation-ipees.com
X-WR-CALDESC:Évènements pour Sophrologie formation IPEES
REFRESH-INTERVAL;VALUE=DURATION:PT1H
X-Robots-Tag:noindex
X-PUBLISHED-TTL:PT1H
BEGIN:VTIMEZONE
TZID:Europe/Paris
BEGIN:DAYLIGHT
TZOFFSETFROM:+0100
TZOFFSETTO:+0200
TZNAME:CEST
DTSTART:20160327T010000
END:DAYLIGHT
BEGIN:STANDARD
TZOFFSETFROM:+0200
TZOFFSETTO:+0100
TZNAME:CET
DTSTART:20161030T010000
END:STANDARD
BEGIN:DAYLIGHT
TZOFFSETFROM:+0100
TZOFFSETTO:+0200
TZNAME:CEST
DTSTART:20170326T010000
END:DAYLIGHT
BEGIN:STANDARD
TZOFFSETFROM:+0200
TZOFFSETTO:+0100
TZNAME:CET
DTSTART:20171029T010000
END:STANDARD
BEGIN:DAYLIGHT
TZOFFSETFROM:+0100
TZOFFSETTO:+0200
TZNAME:CEST
DTSTART:20180325T010000
END:DAYLIGHT
BEGIN:STANDARD
TZOFFSETFROM:+0200
TZOFFSETTO:+0100
TZNAME:CET
DTSTART:20181028T010000
END:STANDARD
END:VTIMEZONE
BEGIN:VEVENT
DTSTART;TZID=Europe/Paris:20170204T093000
DTEND;TZID=Europe/Paris:20170204T180000
DTSTAMP:20260423T165348
CREATED:20170201T152130Z
LAST-MODIFIED:20170201T152130Z
UID:1094-1486200600-1486231200@sophrologie-formation-ipees.com
SUMMARY:séminaire sommeil\, imaginaire et rêve éveillé dirigé
DESCRIPTION:
URL:https://sophrologie-formation-ipees.com/event/seminaire-sommeil-imaginaire-et-reve-eveille-dirige/
END:VEVENT
END:VCALENDAR